BEGIN:VCALENDAR
VERSION:2.0
PRODID:icalendar-ruby
CALSCALE:GREGORIAN
METHOD:PUBLISH
BEGIN:VEVENT
DTSTAMP:20260424T163115Z
UID:8-408070@faithleessummit.org
DTSTART:20261024T130000Z
DTEND:20261024T140000Z
CLASS:PUBLIC
CREATED:20260424T104014
DESCRIPTION:Prayer Meeting
LAST-MODIFIED:20260424T104014
LOCATION:1460 Langsford Rd Lees Summit Mo 64063
SUMMARY:Prayer Meeting
URL;VALUE=URI:https://www.faithleessummit.org/events/prayer-meeting/2026-10
 -24
END:VEVENT
END:VCALENDAR
