BEGIN:VCALENDAR
VERSION:2.0
PRODID:icalendar-ruby
CALSCALE:GREGORIAN
METHOD:PUBLISH
BEGIN:VEVENT
DTSTAMP:20260424T144712Z
UID:8-407771@faithleessummit.org
DTSTART:20261017T130000Z
DTEND:20261017T140000Z
CLASS:PUBLIC
CREATED:20260424T074732
DESCRIPTION:Prayer Meeting
LAST-MODIFIED:20260424T074732
LOCATION:1460 Langsford Rd Lees Summit Mo 64063
SUMMARY:Prayer Meeting
URL;VALUE=URI:https://www.faithleessummit.org/events/prayer-meeting/2026-10
 -17
END:VEVENT
END:VCALENDAR
