BEGIN:VCALENDAR
VERSION:2.0
PRODID:icalendar-ruby
CALSCALE:GREGORIAN
METHOD:PUBLISH
BEGIN:VEVENT
DTSTAMP:20260424T104333Z
UID:8-407471@faithleessummit.org
DTSTART:20261003T130000Z
DTEND:20261003T140000Z
CLASS:PUBLIC
CREATED:20260423T221932
DESCRIPTION:Prayer Meeting
LAST-MODIFIED:20260423T221932
LOCATION:1460 Langsford Rd Lees Summit Mo 64063
SUMMARY:Prayer Meeting
URL;VALUE=URI:https://www.faithleessummit.org/events/prayer-meeting/2026-10
 -03
END:VEVENT
END:VCALENDAR
