BEGIN:VCALENDAR
VERSION:2.0
PRODID:icalendar-ruby
CALSCALE:GREGORIAN
METHOD:PUBLISH
BEGIN:VEVENT
DTSTAMP:20260424T090435Z
UID:8-407470@faithleessummit.org
DTSTART:20260926T130000Z
DTEND:20260926T140000Z
CLASS:PUBLIC
CREATED:20260423T221932
DESCRIPTION:Prayer Meeting
LAST-MODIFIED:20260423T221932
LOCATION:1460 Langsford Rd Lees Summit Mo 64063
SUMMARY:Prayer Meeting
URL;VALUE=URI:https://www.faithleessummit.org/events/prayer-meeting/2026-09
 -26
END:VEVENT
END:VCALENDAR
